Workbook

Sheet TITLE
A1: A MONTHLY CAPEX PLAN FOR TECGO FAST CHARGING NETWORK FOR THE YEARS 2019 AND 2020 17/11/2020

Sheet INPUTS
A1: GENERAL INPUTS
A2: Number of operation years | C2: 2
A3: Number of monthly periods in a year | C3: 12
A5: OPERATIONAL INPUTS
A6: Value of a Level 2 charger | C6: 1500
A7: Number of chargers added each year | C7: 100
A8: Number of chargers in a station | C8: 4
A9: Number of charging stations in a year | C9: =C7/C8 -> 25
A10: Cost of making a charging station | C10: 750
A12: FINANCIAL INPUTS
A13: Monthly depreciation rate of chargers | C13: 0.005
A14: Profitability of the business | C14: 0.01

Sheet CALCULATIONS
C2: FIXED ASSETS
B3: YEAR | C3: 2019 | D3: 2020
A4: MONTH
A5: January | C5: =SUM(PRODUCT(INPUTS!C6,INPUTS!C7),PRODUCT(INPUTS!C9,INPUTS!C10)) -> 168750 | D5: =SUM(SUM(C16-C34,PRODUCT(INPUTS!C13,C16)),PRODUCT(INPUTS!C6,INPUTS!C7),PRODUCT(INPUTS!C9,INPUTS!C10)) -> 347016.8
A6: February | C6: =SUM(C5-C23,PRODUCT(INPUTS!C14,C5)) -> 169593.75 | D6: =SUM(D5-D23,PRODUCT(INPUTS!C14,D5)) -> 348751.88
A7: March | C7: =SUM(C6-C24,PRODUCT(INPUTS!C14,C6)) -> 170441.72 | D7: =SUM(D6-D24,PRODUCT(INPUTS!C14,D6)) -> 350495.64
A8: April | C8: =SUM(C7-C25,PRODUCT(INPUTS!C14,C7)) -> 171293.93 | D8: =SUM(D7-D25,PRODUCT(INPUTS!C14,D7)) -> 352248.12
A9: May | C9: =SUM(C8-C26,PRODUCT(INPUTS!C14,C8)) -> 172150.4 | D9: =SUM(D8-D26,PRODUCT(INPUTS!C14,D8)) -> 354009.36
A10: June | C10: =SUM(C9-C27,PRODUCT(INPUTS!C14,C9)) -> 173011.15 | D10: =SUM(D9-D27,PRODUCT(INPUTS!C14,D9)) -> 355779.41
A11: July | C11: =SUM(C10-C28,PRODUCT(INPUTS!C14,C10)) -> 173876.2 | D11: =SUM(D10-D28,PRODUCT(INPUTS!C14,D10)) -> 357558.3
A12: August | C12: =SUM(C11-C29,PRODUCT(INPUTS!C14,C11)) -> 174745.59 | D12: =SUM(D11-D29,PRODUCT(INPUTS!C14,D11)) -> 359346.09
A13: September | C13: =SUM(C12-C30,PRODUCT(INPUTS!C14,C12)) -> 175619.31 | D13: =SUM(D12-D30,PRODUCT(INPUTS!C14,D12)) -> 361142.82
A14: October | C14: =SUM(C13-C31,PRODUCT(INPUTS!C14,C13)) -> 176497.41 | D14: =SUM(D13-D31,PRODUCT(INPUTS!C14,D13)) -> 362948.54
A15: November | C15: =SUM(C14-C32,PRODUCT(INPUTS!C14,C14)) -> 177379.9 | D15: =SUM(D14-D32,PRODUCT(INPUTS!C14,D14)) -> 364763.28
A16: December | C16: =SUM(C15-C33,PRODUCT(INPUTS!C14,C15)) -> 178266.8 | D16: =SUM(D15-D33,PRODUCT(INPUTS!C14,D15)) -> 366587.1
C20: DEPRECIATION
B21: YEAR | C21: 2019 | D21: 2020
A22: MONTH
A23: January | C23: =PRODUCT(INPUTS!C13,C5) -> 843.75 | D23: =PRODUCT(INPUTS!C13,D5) -> 1735.084
A24: February | C24: =PRODUCT(INPUTS!C13,C6) -> 847.96875 | D24: =PRODUCT(INPUTS!C13,D6) -> 1743.7594
A25: March | C25: =PRODUCT(INPUTS!C13,C7) -> 852.20859 | D25: =PRODUCT(INPUTS!C13,D7) -> 1752.4782
A26: April | C26: =PRODUCT(INPUTS!C13,C8) -> 856.46964 | D26: =PRODUCT(INPUTS!C13,D8) -> 1761.2406
A27: May | C27: =PRODUCT(INPUTS!C13,C9) -> 860.75198 | D27: =PRODUCT(INPUTS!C13,D9) -> 1770.0468
A28: June | C28: =PRODUCT(INPUTS!C13,C10) -> 865.05574 | D28: =PRODUCT(INPUTS!C13,D10) -> 1778.897
A29: July | C29: =PRODUCT(INPUTS!C13,C11) -> 869.38102 | D29: =PRODUCT(INPUTS!C13,D11) -> 1787.7915
A30: August | C30: =PRODUCT(INPUTS!C13,C12) -> 873.72793 | D30: =PRODUCT(INPUTS!C13,D12) -> 1796.7305
A31: September | C31: =PRODUCT(INPUTS!C13,C13) -> 878.09657 | D31: =PRODUCT(INPUTS!C13,D13) -> 1805.7141
A32: October | C32: =PRODUCT(INPUTS!C13,C14) -> 882.48705 | D32: =PRODUCT(INPUTS!C13,D14) -> 1814.7427
A33: November | C33: =PRODUCT(INPUTS!C13,C15) -> 886.89949 | D33: =PRODUCT(INPUTS!C13,D15) -> 1823.8164
A34: December | C34: =PRODUCT(INPUTS!C13,C16) -> 891.33398 | D34: =PRODUCT(INPUTS!C13,D16) -> 1832.9355
B37: DIFFERENCES OF FIXED ASSETS
B38: YEAR/YEAR INTERVAL | C38: 2019 | D38: 2019-2020 | E38: 2020
A39: MONTH INTERVAL
A40: January-February | C40: =C6-C5 -> 843.75 | E40: =D6-D5 -> 1735.084
A41: February-March | C41: =C7-C6 -> 847.96875 | E41: =D7-D6 -> 1743.7594
A42: March-April | C42: =C8-C7 -> 852.20859 | E42: =D8-D7 -> 1752.4782
A43: April-May | C43: =C9-C8 -> 856.46964 | E43: =D9-D8 -> 1761.2406
A44: May-June | C44: =C10-C9 -> 860.75198 | E44: =D10-D9 -> 1770.0468
A45: June-July | C45: =C11-C10 -> 865.05574 | E45: =D11-D10 -> 1778.897
A46: July-August | C46: =C12-C11 -> 869.38102 | E46: =D12-D11 -> 1787.7915
...

Sheet OUTPUTS
B2: CAPITAL EXPENDITURE
B4: YEAR/YEAR INTERVAL | C4: 2019 | D4: 2019-2020 | E4: 2020
A5: MONTH INTERVAL
A6: January-February | C6: =SUM(CALCULATIONS!C40,CALCULATIONS!C58) -> 847.96875 | E6: =SUM(CALCULATIONS!E40,CALCULATIONS!E58) -> 1743.7594
A7: February-March | C7: =SUM(CALCULATIONS!C41,CALCULATIONS!C59) -> 852.20859 | E7: =SUM(CALCULATIONS!E41,CALCULATIONS!E59) -> 1752.4782
A8: March-April | C8: =SUM(CALCULATIONS!C42,CALCULATIONS!C60) -> 856.46964 | E8: =SUM(CALCULATIONS!E42,CALCULATIONS!E60) -> 1761.2406
A9: April-May | C9: =SUM(CALCULATIONS!C43,CALCULATIONS!C61) -> 860.75198 | E9: =SUM(CALCULATIONS!E43,CALCULATIONS!E61) -> 1770.0468
A10: May-June | C10: =SUM(CALCULATIONS!C44,CALCULATIONS!C62) -> 865.05574 | E10: =SUM(CALCULATIONS!E44,CALCULATIONS!E62) -> 1778.897
A11: June-July | C11: =SUM(CALCULATIONS!C45,CALCULATIONS!C63) -> 869.38102 | E11: =SUM(CALCULATIONS!E45,CALCULATIONS!E63) -> 1787.7915
A12: July-August | C12: =SUM(CALCULATIONS!C46,CALCULATIONS!C64) -> 873.72793 | E12: =SUM(CALCULATIONS!E46,CALCULATIONS!E64) -> 1796.7305
A13: August-September | C13: =SUM(CALCULATIONS!C47,CALCULATIONS!C65) -> 878.09657 | E13: =SUM(CALCULATIONS!E47,CALCULATIONS!E65) -> 1805.7141
A14: September-October | C14: =SUM(CALCULATIONS!C48,CALCULATIONS!C66) -> 882.48705 | E14: =SUM(CALCULATIONS!E48,CALCULATIONS!E66) -> 1814.7427
A15: October-November | C15: =SUM(CALCULATIONS!C49,CALCULATIONS!C67) -> 886.89949 | E15: =SUM(CALCULATIONS!E49,CALCULATIONS!E67) -> 1823.8164
A16: November-December | C16: =SUM(CALCULATIONS!C50,CALCULATIONS!C68) -> 891.33398 | E16: =SUM(CALCULATIONS!E50,CALCULATIONS!E68) -> 1832.9355
A17: December-January | D17: =SUM(CALCULATIONS!D51,CALCULATIONS!D69) -> 169593.75
